Workbook

Sheet Charakterblatt
A1: Charakterblatt | CB1: Erfahren | CC1: Konsti
A2: INTIME | C2: Name: | K2: Alrik | V2: OUTTIME | X2: Name: | BZ2: keines | CB2: keinen | CC2: keinen | CD2: keinen | CF2: keines | CH2: nix | CY2: Abenteurer | CZ2: Mensch
C3: Rasse: | K3: Mensch | X3: Vorname: | BZ3: Äxte & Wuchtwaffen | CB3: Adel | CC3: Adel | CD3: Adel | CF3: Alchemie 1 | CH3: Lehrer | CY3: Kämpfer | CZ3: Waldelf
C4: Typus: | K4: Abenteurer | X4: Straße: | BZ4: Dolche | CB4: Giftimm. geg. Blindheit | CC4: Giftimm. geg. Blindheit | CD4: Giftimm. geg. Blindheit | CF4: Alchemie 10 | CX4: Zauberer | CY4: Auelf
C5: Klasse: | K5: Erisgeweihter | X5: Ort: | BZ5: Einhandwaffen | CB5: Giftimm. geg. Halluz. | CC5: Giftimm. geg. Halluz. | CD5: Giftimm. geg. Halluz. | CF5: Alchemie 2 | CY5: Druide | CZ5: Halbelf
C6: Herkunftsland: | K6: NeuRhaetikon | X6: Telefon: | BZ6: Kettenwaffen | CB6: Giftimm. geg. Koma | CC6: Giftimm. geg. Koma | CD6: Giftimm. geg. Koma | CF6: Alchemie 3 | CY6: Hexe | CZ6: Zwerg
C7: Erfurchtswert: | K7: =ROUNDDOWN(R7/20,0) -> 0 | N7: Contage: | R7: =Conliste!B29+VLOOKUP(A12,Berechnungen!H3:J6,3) -> 0 | X7: Mobil: | BZ7: Schilde | CB7: Giftimm. geg. Lähmung | CC7: Giftimm. geg. Lähmung | CD7: Giftimm. geg. Lähmung | CF7: Alchemie 4 | CY7: Schamane | CZ7: Kender
C8: Erhaltene EPs: | K8: =VLOOKUP(A12,Berechnungen!H3:I6,2)+Conliste!E29-15 -> 0 | N8: Freie EPs: | R8: =K8-Berechnungen!I8-Magieblatt!AK8+15 -> 15 | X8: E-mail: | BZ8: Schusswaffen | CB8: Giftimm. geg. Magie | CC8: Giftimm. geg. Magie | CD8: Giftimm. geg. Magie | CF8: Alchemie 5 | CY8: Echse | CZ8: Halbling
C9: Lebenspunkte: | K9: =Berechnungen!I10 -> 3 | N9: Magiep.: | R9: =VLOOKUP(K4,Berechnungen!H32:N43,7)-Magieblatt!AD8 -> 0 | X9: Geburtsdatum: | BZ9: Speere & Stäbe | CB9: Giftimm. geg. Schaden | CC9: Giftimm. geg. Schaden | CD9: Giftimm. geg. Schaden | CF9: Alchemie 6 | CY9: Waldelf | CZ9: Katze
BZ10: Stöcke | CB10: Giftimm. geg. Schlaf | CC10: Giftimm. geg. Schlaf | CD10: Giftimm. geg. Schlaf | CF10: Alchemie 7 | CY10: Auelf | CZ10: Echse
A11: Vor- / Nachteile: | Q11: EPs: | T11: Diesen Vorteil möchte ich bekommen: | BZ11: Verteidigungsstab | CB11: Giftimm. geg. Schwäche | CC11: Giftimm. geg. Schwäche | CD11: Giftimm. geg. Schwäche | CF11: Alchemie 8 | CY11: Halbelf | CZ11: Vulgure
A12: Erfahren 0 | Q12: 0 | BZ12: Waffenloser Kampf 1 | CB12: Giftimm. geg. Stummheit | CC12: Giftimm. geg. Stummheit | CD12: Giftimm. geg. Stummheit | CF12: Alchemie 9 | CY12: Magara Tor
A13: keinen | Q13: =VLOOKUP(A13,'.'!$K$2:$L$91,2) -> 0 | BZ13: Waffenloser Kampf 2 | CB13: Giftimm. geg. Taubheit | CC13: Giftimm. geg. Taubheit | CD13: Giftimm. geg. Taubheit | CF13: Anfertigen v. Spruchr. | CY13: Magiedilettant
A14: keinen | Q14: =VLOOKUP(A14,'.'!$K$2:$L$91,2) -> 0 | BZ14: Waffenloser Kampf 3 | CB14: Giftimm. geg. Tod | CC14: Giftimm. geg. Tod | CD14: Giftimm. geg. Tod | CF14: Betäuben
A15: keinen | Q15: =VLOOKUP(A15,'.'!$K$2:$L$91,2) -> 0 | BZ15: Waffenloser Kampf 4 | CB15: Giftimm. geg. Übelkeit | CC15: Giftimm. geg. Übelkeit | CD15: Giftimm. geg. Übelkeit | CF15: Bognerhandwerk
A16: keinen | Q16: =VLOOKUP(A16,'.'!$K$2:$L$91,2) -> 0 | BZ16: Waffenloser Kampf 5 | CB16: Giftimm. geg. Wahnsinn | CC16: Giftimm. geg. Wahnsinn | CD16: Giftimm. geg. Wahnsinn | CF16: Dieben
A17: keinen | Q17: =VLOOKUP(A17,'.'!$K$2:$L$91,2) -> 0 | BZ17: Wurfwaffen | CB17: Giftimm. geg.langs. Tod | CC17: Giftimm. geg.langs. Tod | CD17: Giftimm. geg.langs. Tod | CF17: Einf. Rüstung flicken
Q18: =SUM(Q12:R17) -> 0 | BZ18: Zweihändige Waffen | CB18: Glück im Spiel | CC18: Glück im Spiel | CD18: Glück im Spiel | CF18: Einf. Rüstung rep.
CB19: Gute Leitung n. oben | CC19: Gute Konstitution | CD19: Gute Leitung n. oben | CF19: Entfesslungstrick
A20: Waffentalente | Q20: EPs | T20: Lehrer | X20: Dieses Waffentalent möchte ich lernen: | BZ20: keines | CB20: Immun g. Wundfieber | CC20: Gute Leitung n. oben | CD20: Immun g. Wundfieber | CF20: Erste Hilfe
A21: keines | Q21: =Berechnungen!F3 -> 0 | T21: 0 | BZ21: Äxte & Wuchtwaffen | CB21: Immun geg. Hitze | CC21: Immun g. Wundfieber | CD21: Immun geg. Hitze | CF21: Erweiterte Erste Hilfe
A22: keines | Q22: =Berechnungen!F4 -> 0 | T22: 0 | BZ22: Dolche | CB22: Immun geg. Kälte | CC22: Immun geg. Hitze | CD22: Immun geg. Kälte | CF22: Fallen entschärfen 1
A23: keines | Q23: =Berechnungen!F5 -> 0 | T23: 0 | BZ23: Einhandwaffen | CB23: Immun geg.Krankheit 1 | CC23: Immun geg. Kälte | CD23: Immun geg.Krankheit 1 | CF23: Fallen entschärfen 2
A24: keines | Q24: =Berechnungen!F6 -> 0 | T24: 0 | BZ24: Kettenwaffen | CB24: Immun geg. Krankheit 2 | CC24: Immun geg.Krankheit 1 | CD24: Immun geg. Krankheit 2 | CF24: Fallen entschärfen 3
A25: keines | Q25: =Berechnungen!F7 -> 0 | T25: 0 | BZ25: Schilde | CB25: Magieregeneration | CC25: Immun geg. Krankheit 2 | CD25: Magieregeneration | CF25: Fallen entschärfen 4
A26: keines | Q26: =Berechnungen!F8 -> 0 | T26: 0 | BZ26: Schusswaffen | CB26: Magieresistenz 1 | CC26: Magieregeneration | CD26: Magieresistenz 1 | CF26: Fallen entschärfen 5
A27: Wert im Waffenlosen Kampf: | M27: =Berechnungen!I17 -> 0 | Q27: =SUM(Q21:R26) -> 0 | BZ27: Speere & Stäbe | CB27: Magieresistenz 2 | CC27: Magieresistenz 1 | CD27: Magieresistenz 2 | CF27: Fallen stellen 1
BZ28: Stöcke | CB28: Magieresistenz 3 | CC28: Magieresistenz 2 | CD28: Magieresistenz 3 | CF28: Fallen stellen 2
A29: Talente: | Q29: EPs: | T29: Lehrer | X29: Dieses Talent möchte ich lernen: | BZ29: Verteidigungsstab | CB29: Magietalent | CC29: Magieresistenz 3 | CD29: Magietalent | CF29: Fallen stellen 3
A30: keines | Q30: =Berechnungen!F11 -> 0 | T30: 0 | BZ30: Wurfwaffen | CB30: Mut 1 | CC30: Magietalent | CD30: Mut 1 | CF30: Fallen stellen 4
A31: keines | Q31: =Berechnungen!F12 -> 0 | T31: 0 | BZ31: Zweihändige Waffen | CB31: Mut 2 | CC31: Mut 1 | CD31: Mut 2 | CF31: Fallen stellen 5
A32: keines | Q32: =Berechnungen!F13 -> 0 | T32: 0 | CB32: Schmerzunempfindlich | CC32: Mut 2 | CD32: Schmerzunempfindlich | CF32: Falschspiel 1
A33: keines | Q33: =Berechnungen!F14 -> 0 | T33: 0 | CB33: Schnellere Heilung | CC33: Schmerzunempfindlich | CD33: Schnellere Heilung | CF33: Falschspiel 2
A34: keines | Q34: =Berechnungen!F15 -> 0 | T34: 0 | CB34: Überlebenswille | CC34: Schnellere Heilung | CD34: Überlebenswille | CF34: Falschspiel 3
A35: keines | Q35: =Berechnungen!F16 -> 0 | T35: 0 | CB35: Zeitgefühl | CC35: Überlebenswille | CD35: Zeitgefühl | CF35: Fesseln
A36: keines | Q36: =Berechnungen!F17 -> 0 | T36: 0 | CB36: Zweites Gesicht | CC36: Zeitgefühl | CD36: Zweites Gesicht | CF36: Feuer machen
A37: keines | Q37: =Berechnungen!F18 -> 0 | T37: 0 | CC37: Zweites Gesicht | CF37: Geschichte & Heraldik
A38: keines | Q38: =Berechnungen!F19 -> 0 | T38: 0 | CB38: Aberglaube | CD38: Aberglaube | CF38: Giftheilkunde
A39: keines | Q39: =Berechnungen!F20 -> 0 | T39: 0 | CB39: Allergie 1 | CC39: Aberglaube | CD39: Allergie 1 | CF39: Giftkunde 1
A40: keines | Q40: =Berechnungen!F21 -> 0 | T40: 0 | CB40: Allergie 2 | CC40: Allergie 1 | CD40: Allergie 2 | CF40: Giftkunde 10
...

Sheet Magieblatt
A1: Zauberspecials, Paladintugenden, etc.: | AD1: Verlorene MPs | AK1: EPs
CE3: nix
CE4: Lehrer | CI4: keinen
CE5: These | CI5: Abstand 1
CE6: Selbst | CI6: Abstand 2
CI7: Alptraum
AD8: =SUM(AD2:AI7) -> 0 | AK8: =SUM(AK2:AM7) -> 0 | CI8: Artefakt herstellen 1
CI9: Artefakt herstellen 2
A10: Zauber: | Q10: EPs: | T10: Lehrer | X10: Diesen Zauber möchte ich lernen: | CI10: Artefakt herstellen 3
A11: keinen | Q11: =Berechnungen!F38 -> 0 | T11: 0 | CI11: Artefakt herstellen 4
A12: keinen | Q12: =Berechnungen!F39 -> 0 | T12: 0 | CI12: Artefakt zerstören 1
A13: keinen | Q13: =Berechnungen!F40 -> 0 | T13: 0 | CI13: Artefakt zerstören 2
A14: keinen | Q14: =Berechnungen!F41 -> 0 | T14: 0 | CI14: Artefakt zerstören 3
A15: keinen | Q15: =Berechnungen!F42 -> 0 | T15: 0 | CI15: Artefakt zerstören 4
A16: keinen | Q16: =Berechnungen!F43 -> 0 | T16: 0 | CI16: Beeinflussung aufheben 1
A17: keinen | Q17: =Berechnungen!F44 -> 0 | T17: 0 | CI17: Beeinflussung aufheben 2
A18: keinen | Q18: =Berechnungen!F45 -> 0 | T18: 0 | CI18: Beeinflussung aufheben 3
A19: keinen | Q19: =Berechnungen!F46 -> 0 | T19: 0 | CI19: Beeinflussung aufheben 4
A20: keinen | Q20: =Berechnungen!F47 -> 0 | T20: 0 | CI20: Beeinflussung aufheben 5
A21: keinen | Q21: =Berechnungen!F48 -> 0 | T21: 0 | CI21: Beeinflussung aufheben 6
A22: keinen | Q22: =Berechnungen!F49 -> 0 | T22: 0 | CI22: Beeinflussung aufheben 7
... A56: keinen | Q56: =Berechnungen!F83 -> 0 | T56: 0 | CI56: Friedenszone
Q57: =SUM(Q11:R56) -> 0 | CI57: Frost
CI58: Furcht 1
CI59: Furcht 2
CI60: Furcht 3
CI61: Furcht 4
CI62: Furcht vor Symbolen
CI63: Gedankenbuch durchblättern
CI64: Gegenstand finden
CI65: Gegenstand ignorieren 1
CI66: Gegenstand ignorieren 2
CI67: Geister rufen
CI68: Geschmack vortäuschen
CI69: Gesunder Schlaf
... CI222: Wunde verschieben

Sheet Conliste
A1: Liste der LARPs, die mein Charakter überlebte:
A2: =Charakterblatt!K2 -> Alrik
A3: Name der Veranstaltung | B3: Anzahl der gespielten Contage | C3: Intime Geld | D3: Liste erworbener Talente und Zauber. Besondere Gegenstände. | E3: Erhaltene Bonus-EP´s
A29: gesamt: | B29: =SUM(B4:B28) -> 0 | E29: =SUM(E4:E28) -> 0

Sheet Berechnungen
A2: Kampftalente: | B2: Multiplikator | C2: Kosten | D2: Lehrer | E2: Rechnung | F2: Punkte | H2: Eps: | I2: EP | J2: CT | K2: Alter | L2: Ende | M2: aktuelle CT | N2: Eps | O2: Eps alt
A3: =Charakterblatt!A21 -> keines | B3: =VLOOKUP(A3,'.'!$A$2:$D$18,4) -> 0 | C3: =VLOOKUP(A3,'.'!$A$2:$D$18,2) -> 0 | D3: =Charakterblatt!T21 -> 0 | E3: =C3-D3 -> 0 | F3: =B3*(IF(E3<1,1,E3)) -> 0 | H3: Erfahren 0 | I3: =SUM(N3:O3)+15 -> 15 | J3: 0 | K3: 50 | L3: 100 | M3: =Conliste!$B$29+J3 -> 0 | N3: =IF(M3<K3,M3,50) -> 0 | O3: =IF(M3>L3,25,IF(ROUNDDOWN((M3-K3)/2,0)>0,ROUNDDOWN((M3-K3)/2,0),0)) -> 0
A4: =Charakterblatt!A22 -> keines | B4: =VLOOKUP(A4,'.'!$A$2:$D$18,4) -> 0 | C4: =VLOOKUP(A4,'.'!$A$2:$D$18,2) -> 0 | D4: =Charakterblatt!T22 -> 0 | E4: =C4-D4 -> 0 | F4: =B4*(IF(E4<1,1,E4)) -> 0 | H4: Erfahren 1 | I4: =SUM(N4:O4)+15 -> 20 | J4: 5 | K4: 40 | L4: 90 | M4: =Conliste!$B$29+J4 -> 5 | N4: =IF(M4<K4,M4,40) -> 5 | O4: =IF(M4>L4,25,IF(ROUNDDOWN((M4-K4)/2,0)>0,ROUNDDOWN((M4-K4)/2,0),0)) -> 0
A5: =Charakterblatt!A23 -> keines | B5: =VLOOKUP(A5,'.'!$A$2:$D$18,4) -> 0 | C5: =VLOOKUP(A5,'.'!$A$2:$D$18,2) -> 0 | D5: =Charakterblatt!T23 -> 0 | E5: =C5-D5 -> 0 | F5: =B5*(IF(E5<1,1,E5)) -> 0 | H5: Erfahren 2 | I5: =SUM(N5:O5)+15 -> 25 | J5: 10 | K5: 25 | L5: 75 | M5: =Conliste!$B$29+J5 -> 10 | N5: =IF(M5<K5,M5,25) -> 10 | O5: =IF(M5>L5,25,IF(ROUNDDOWN((M5-K5)/2,0)>0,ROUNDDOWN((M5-K5)/2,0),0)) -> 0
A6: =Charakterblatt!A24 -> keines | B6: =VLOOKUP(A6,'.'!$A$2:$D$18,4) -> 0 | C6: =VLOOKUP(A6,'.'!$A$2:$D$18,2) -> 0 | D6: =Charakterblatt!T24 -> 0 | E6: =C6-D6 -> 0 | F6: =B6*(IF(E6<1,1,E6)) -> 0 | H6: Erfahren 3 | I6: =SUM(N6:O6)+15 -> 30 | J6: 15 | K6: 15 | L6: 65 | M6: =Conliste!$B$29+J6 -> 15 | N6: =IF(M6<K6,M6,15) -> 15 | O6: =IF(M6>L6,25,IF(ROUNDDOWN((M6-K6)/2,0)>0,ROUNDDOWN((M6-K6)/2,0),0)) -> 0
A7: =Charakterblatt!A25 -> keines | B7: =VLOOKUP(A7,'.'!$A$2:$D$18,4) -> 0 | C7: =VLOOKUP(A7,'.'!$A$2:$D$18,2) -> 0 | D7: =Charakterblatt!T25 -> 0 | E7: =C7-D7 -> 0 | F7: =B7*(IF(E7<1,1,E7)) -> 0
A8: =Charakterblatt!A26 -> keines | B8: =VLOOKUP(A8,'.'!$A$2:$D$18,4) -> 0 | C8: =VLOOKUP(A8,'.'!$A$2:$D$18,2) -> 0 | D8: =Charakterblatt!T26 -> 0 | E8: =C8-D8 -> 0 | F8: =B8*(IF(E8<1,1,E8)) -> 0 | H8: Eps: | I8: =Charakterblatt!Q18+Charakterblatt!Q27+Charakterblatt!Q55+Magieblatt!Q57 -> 0
A10: Talente: | B10: Multiplikator | C10: Kosten | D10: Lehrer | E10: Rechnung | F10: Punkte | H10: LPs: | I10: =SUM(I11:I13) -> 3
A11: =Charakterblatt!A30 -> keines | B11: =VLOOKUP(A11,'.'!$E$2:$G$112,3) -> 0 | C11: =VLOOKUP(A11,'.'!$E$2:$G$112,2) -> 0 | D11: =Charakterblatt!T30 -> 0 | E11: =C11-D11 -> 0 | F11: =B11*(IF(E11<1,1,E11)) -> 0 | H11: Rasse: | I11: =VLOOKUP(Charakterblatt!K3,'.'!O2:P11,2) -> 3
A12: =Charakterblatt!A31 -> keines | B12: =VLOOKUP(A12,'.'!$E$2:$G$112,3) -> 0 | C12: =VLOOKUP(A12,'.'!$E$2:$G$112,2) -> 0 | D12: =Charakterblatt!T31 -> 0 | E12: =C12-D12 -> 0 | F12: =B12*(IF(E12<1,1,E12)) -> 0 | H12: Konsti: | I12: =VLOOKUP(Charakterblatt!A13,'.'!K2:M91,3) -> 0
A13: =Charakterblatt!A32 -> keines | B13: =VLOOKUP(A13,'.'!$E$2:$G$112,3) -> 0 | C13: =VLOOKUP(A13,'.'!$E$2:$G$112,2) -> 0 | D13: =Charakterblatt!T32 -> 0 | E13: =C13-D13 -> 0 | F13: =B13*(IF(E13<1,1,E13)) -> 0 | H13: Typus: | I13: =VLOOKUP(Charakterblatt!K4,'.'!R2:S13,2) -> 0
A14: =Charakterblatt!A33 -> keines | B14: =VLOOKUP(A14,'.'!$E$2:$G$112,3) -> 0 | C14: =VLOOKUP(A14,'.'!$E$2:$G$112,2) -> 0 | D14: =Charakterblatt!T33 -> 0 | E14: =C14-D14 -> 0 | F14: =B14*(IF(E14<1,1,E14)) -> 0
A15: =Charakterblatt!A34 -> keines | B15: =VLOOKUP(A15,'.'!$E$2:$G$112,3) -> 0 | C15: =VLOOKUP(A15,'.'!$E$2:$G$112,2) -> 0 | D15: =Charakterblatt!T34 -> 0 | E15: =C15-D15 -> 0 | F15: =B15*(IF(E15<1,1,E15)) -> 0
A16: =Charakterblatt!A35 -> keines | B16: =VLOOKUP(A16,'.'!$E$2:$G$112,3) -> 0 | C16: =VLOOKUP(A16,'.'!$E$2:$G$112,2) -> 0 | D16: =Charakterblatt!T35 -> 0 | E16: =C16-D16 -> 0 | F16: =B16*(IF(E16<1,1,E16)) -> 0
A17: =Charakterblatt!A36 -> keines | B17: =VLOOKUP(A17,'.'!$E$2:$G$112,3) -> 0 | C17: =VLOOKUP(A17,'.'!$E$2:$G$112,2) -> 0 | D17: =Charakterblatt!T36 -> 0 | E17: =C17-D17 -> 0 | F17: =B17*(IF(E17<1,1,E17)) -> 0 | H17: WK: | I17: =IF(I18=0,0,SUM(I18:I20)) -> 0
A18: =Charakterblatt!A37 -> keines | B18: =VLOOKUP(A18,'.'!$E$2:$G$112,3) -> 0 | C18: =VLOOKUP(A18,'.'!$E$2:$G$112,2) -> 0 | D18: =Charakterblatt!T37 -> 0 | E18: =C18-D18 -> 0 | F18: =B18*(IF(E18<1,1,E18)) -> 0 | H18: WK: | I18: =VLOOKUP(Charakterblatt!A21,'.'!A21:B37,2) -> 0
A19: =Charakterblatt!A38 -> keines | B19: =VLOOKUP(A19,'.'!$E$2:$G$112,3) -> 0 | C19: =VLOOKUP(A19,'.'!$E$2:$G$112,2) -> 0 | D19: =Charakterblatt!T38 -> 0 | E19: =C19-D19 -> 0 | F19: =B19*(IF(E19<1,1,E19)) -> 0 | H19: LP-Bonus: | I19: =IF(I10-3<0,0,I10-3) -> 0
A20: =Charakterblatt!A39 -> keines | B20: =VLOOKUP(A20,'.'!$E$2:$G$112,3) -> 0 | C20: =VLOOKUP(A20,'.'!$E$2:$G$112,2) -> 0 | D20: =Charakterblatt!T39 -> 0 | E20: =C20-D20 -> 0 | F20: =B20*(IF(E20<1,1,E20)) -> 0 | H20: Waffenbonus: | I20: =IF(I27>2,1,0) -> 0
A21: =Charakterblatt!A40 -> keines | B21: =VLOOKUP(A21,'.'!$E$2:$G$112,3) -> 0 | C21: =VLOOKUP(A21,'.'!$E$2:$G$112,2) -> 0 | D21: =Charakterblatt!T40 -> 0 | E21: =C21-D21 -> 0 | F21: =B21*(IF(E21<1,1,E21)) -> 0
A22: =Charakterblatt!A41 -> keines | B22: =VLOOKUP(A22,'.'!$E$2:$G$112,3) -> 0 | C22: =VLOOKUP(A22,'.'!$E$2:$G$112,2) -> 0 | D22: =Charakterblatt!T41 -> 0 | E22: =C22-D22 -> 0 | F22: =B22*(IF(E22<1,1,E22)) -> 0 | I22: =VLOOKUP(Charakterblatt!A22,'.'!$A$2:$D$18,3) -> 0
A23: =Charakterblatt!A42 -> keines | B23: =VLOOKUP(A23,'.'!$E$2:$G$112,3) -> 0 | C23: =VLOOKUP(A23,'.'!$E$2:$G$112,2) -> 0 | D23: =Charakterblatt!T42 -> 0 | E23: =C23-D23 -> 0 | F23: =B23*(IF(E23<1,1,E23)) -> 0 | I23: =VLOOKUP(Charakterblatt!A23,'.'!$A$2:$D$18,3) -> 0
A24: =Charakterblatt!A43 -> keines | B24: =VLOOKUP(A24,'.'!$E$2:$G$112,3) -> 0 | C24: =VLOOKUP(A24,'.'!$E$2:$G$112,2) -> 0 | D24: =Charakterblatt!T43 -> 0 | E24: =C24-D24 -> 0 | F24: =B24*(IF(E24<1,1,E24)) -> 0 | I24: =VLOOKUP(Charakterblatt!A24,'.'!$A$2:$D$18,3) -> 0
A25: =Charakterblatt!A44 -> keines | B25: =VLOOKUP(A25,'.'!$E$2:$G$112,3) -> 0 | C25: =VLOOKUP(A25,'.'!$E$2:$G$112,2) -> 0 | D25: =Charakterblatt!T44 -> 0 | E25: =C25-D25 -> 0 | F25: =B25*(IF(E25<1,1,E25)) -> 0 | I25: =VLOOKUP(Charakterblatt!A25,'.'!$A$2:$D$18,3) -> 0
A26: =Charakterblatt!A45 -> keines | B26: =VLOOKUP(A26,'.'!$E$2:$G$112,3) -> 0 | C26: =VLOOKUP(A26,'.'!$E$2:$G$112,2) -> 0 | D26: =Charakterblatt!T45 -> 0 | E26: =C26-D26 -> 0 | F26: =B26*(IF(E26<1,1,E26)) -> 0 | I26: =VLOOKUP(Charakterblatt!A26,'.'!$A$2:$D$18,3) -> 0
A27: =Charakterblatt!A46 -> keines | B27: =VLOOKUP(A27,'.'!$E$2:$G$112,3) -> 0 | C27: =VLOOKUP(A27,'.'!$E$2:$G$112,2) -> 0 | D27: =Charakterblatt!T46 -> 0 | E27: =C27-D27 -> 0 | F27: =B27*(IF(E27<1,1,E27)) -> 0 | I27: =SUM(I22:I26) -> 0
A28: =Charakterblatt!A47 -> keines | B28: =VLOOKUP(A28,'.'!$E$2:$G$112,3) -> 0 | C28: =VLOOKUP(A28,'.'!$E$2:$G$112,2) -> 0 | D28: =Charakterblatt!T47 -> 0 | E28: =C28-D28 -> 0 | F28: =B28*(IF(E28<1,1,E28)) -> 0
A29: =Charakterblatt!A48 -> keines | B29: =VLOOKUP(A29,'.'!$E$2:$G$112,3) -> 0 | C29: =VLOOKUP(A29,'.'!$E$2:$G$112,2) -> 0 | D29: =Charakterblatt!T48 -> 0 | E29: =C29-D29 -> 0 | F29: =B29*(IF(E29<1,1,E29)) -> 0
A30: =Charakterblatt!A49 -> keines | B30: =VLOOKUP(A30,'.'!$E$2:$G$112,3) -> 0 | C30: =VLOOKUP(A30,'.'!$E$2:$G$112,2) -> 0 | D30: =Charakterblatt!T49 -> 0 | E30: =C30-D30 -> 0 | F30: =B30*(IF(E30<1,1,E30)) -> 0 | H30: MPs
A31: =Charakterblatt!A50 -> keines | B31: =VLOOKUP(A31,'.'!$E$2:$G$112,3) -> 0 | C31: =VLOOKUP(A31,'.'!$E$2:$G$112,2) -> 0 | D31: =Charakterblatt!T50 -> 0 | E31: =C31-D31 -> 0 | F31: =B31*(IF(E31<1,1,E31)) -> 0 | H31: Typus | I31: StartMPs | J31: Max | K31: MPs | L31: MP aktuell | M31: Contage | N31: MP
A32: =Charakterblatt!A51 -> keines | B32: =VLOOKUP(A32,'.'!$E$2:$G$112,3) -> 0 | C32: =VLOOKUP(A32,'.'!$E$2:$G$112,2) -> 0 | D32: =Charakterblatt!T51 -> 0 | E32: =C32-D32 -> 0 | F32: =B32*(IF(E32<1,1,E32)) -> 0 | H32: Abenteurer | I32: 0 | J32: 0 | K32: 0 | L32: 0 | M32: 0 | N32: 0
A33: =Charakterblatt!A52 -> keines | B33: =VLOOKUP(A33,'.'!$E$2:$G$112,3) -> 0 | C33: =VLOOKUP(A33,'.'!$E$2:$G$112,2) -> 0 | D33: =Charakterblatt!T52 -> 0 | E33: =C33-D33 -> 0 | F33: =B33*(IF(E33<1,1,E33)) -> 0 | H33: Auelf | I33: 15 | J33: 30 | K33: 4 | L33: =I33+ROUNDDOWN((M33/K33),0) -> 15 | M33: =Charakterblatt!$R$7 -> 0 | N33: =IF(L33>J33,J33,L33) -> 15
A34: =Charakterblatt!A53 -> keines | B34: =VLOOKUP(A34,'.'!$E$2:$G$112,3) -> 0 | C34: =VLOOKUP(A34,'.'!$E$2:$G$112,2) -> 0 | D34: =Charakterblatt!T53 -> 0 | E34: =C34-D34 -> 0 | F34: =B34*(IF(E34<1,1,E34)) -> 0 | H34: Druide | I34: 6 | J34: 30 | K34: 3 | L34: =I34+ROUNDDOWN((M34/K34),0) -> 6 | M34: =Charakterblatt!$R$7 -> 0 | N34: =IF(L34>J34,J34,L34) -> 6
A35: =Charakterblatt!A54 -> keines | B35: =VLOOKUP(A35,'.'!$E$2:$G$112,3) -> 0 | C35: =VLOOKUP(A35,'.'!$E$2:$G$112,2) -> 0 | D35: =Charakterblatt!T54 -> 0 | E35: =C35-D35 -> 0 | F35: =B35*(IF(E35<1,1,E35)) -> 0 | H35: Echse | I35: 25 | J35: 50 | K35: 2 | L35: =I35+ROUNDDOWN((M35/K35),0) -> 25 | M35: =Charakterblatt!$R$7 -> 0 | N35: =IF(L35>J35,J35,L35) -> 25
H36: Halbelf | I36: 5 | J36: 20 | K36: 5 | L36: =I36+ROUNDDOWN((M36/K36),0) -> 5 | M36: =Charakterblatt!$R$7 -> 0 | N36: =IF(L36>J36,J36,L36) -> 5
A37: Zauber: | B37: Multiplikator | C37: Kosten | D37: Lehrer | E37: Rechnung | F37: Punkte | H37: Hexe | I37: 6 | J37: 30 | K37: 3 | L37: =I37+ROUNDDOWN((M37/K37),0) -> 6 | M37: =Charakterblatt!$R$7 -> 0 | N37: =IF(L37>J37,J37,L37) -> 6
A38: =Magieblatt!A11 -> keinen | B38: =VLOOKUP(A38,'.'!$U$2:$W$220,3) -> 0 | C38: =VLOOKUP(A38,'.'!$U$2:$W$220,2) -> 0 | D38: =Magieblatt!T11 -> 0 | E38: =C38-D38 -> 0 | F38: =B38*(IF(E38<1,1,E38)) -> 0 | H38: Kämpfer | I38: 0 | J38: 0 | K38: 0 | L38: 0 | M38: 0 | N38: 0
A39: =Magieblatt!A12 -> keinen | B39: =VLOOKUP(A39,'.'!$U$2:$W$220,3) -> 0 | C39: =VLOOKUP(A39,'.'!$U$2:$W$220,2) -> 0 | D39: =Magieblatt!T12 -> 0 | E39: =C39-D39 -> 0 | F39: =B39*(IF(E39<1,1,E39)) -> 0 | H39: Magara Tor | I39: 6 | J39: 20 | K39: 4 | L39: =I39+ROUNDDOWN((M39/K39),0) -> 6 | M39: =Charakterblatt!$R$7 -> 0 | N39: =IF(L39>J39,J39,L39) -> 6
A40: =Magieblatt!A13 -> keinen | B40: =VLOOKUP(A40,'.'!$U$2:$W$220,3) -> 0 | C40: =VLOOKUP(A40,'.'!$U$2:$W$220,2) -> 0 | D40: =Magieblatt!T13 -> 0 | E40: =C40-D40 -> 0 | F40: =B40*(IF(E40<1,1,E40)) -> 0 | H40: Magiedilettant | I40: 6 | J40: 6 | K40: 0 | L40: 6 | M40: =Charakterblatt!$R$7 -> 0 | N40: =IF(L40>J40,J40,L40) -> 6
A41: =Magieblatt!A14 -> keinen | B41: =VLOOKUP(A41,'.'!$U$2:$W$220,3) -> 0 | C41: =VLOOKUP(A41,'.'!$U$2:$W$220,2) -> 0 | D41: =Magieblatt!T14 -> 0 | E41: =C41-D41 -> 0 | F41: =B41*(IF(E41<1,1,E41)) -> 0 | H41: Schamane | I41: 4 | J41: 15 | K41: 5 | L41: =I41+ROUNDDOWN((M41/K41),0) -> 4 | M41: =Charakterblatt!$R$7 -> 0 | N41: =IF(L41>J41,J41,L41) -> 4
A42: =Magieblatt!A15 -> keinen | B42: =VLOOKUP(A42,'.'!$U$2:$W$220,3) -> 0 | C42: =VLOOKUP(A42,'.'!$U$2:$W$220,2) -> 0 | D42: =Magieblatt!T15 -> 0 | E42: =C42-D42 -> 0 | F42: =B42*(IF(E42<1,1,E42)) -> 0 | H42: Waldelf | I42: 20 | J42: 35 | K42: 4 | L42: =I42+ROUNDDOWN((M42/K42),0) -> 20 | M42: =Charakterblatt!$R$7 -> 0 | N42: =IF(L42>J42,J42,L42) -> 20
...

Sheet .
A1: Waffentalente | B1: Punktekosten | C1: WK | E1: Talente | F1: Punktekosten | K1: Vorteile/Nachteile | L1: Punkte | M1: LP | O1: Rasse | P1: LPs | R1: Typus | S1: LPs | U1: Name des Zaubers | V1: Lernkosten
A2: Äxte & Wuchtwaffen | B2: 3 | C2: 1 | D2: 1 | E2: Alchemie 1 | F2: 1 | G2: 1 | K2: Aberglaube | L2: -1 | M2: 0 | O2: Auelf | P2: 2 | R2: Abenteurer | S2: 0 | U2: Abstand 1 | V2: 2 | W2: 1
A3: Dolche | B3: 1 | C3: 1 | D3: 1 | E3: Alchemie 10 | F3: 10 | G3: 1 | K3: Adel | L3: 2 | M3: 0 | O3: Echse | P3: 3 | R3: Auelf | S3: 0 | U3: Abstand 2 | V3: 6 | W3: 1
A4: Einhandwaffen | B4: 3 | C4: 1 | D4: 1 | E4: Alchemie 2 | F4: 2 | G4: 1 | K4: Allergie 1 | L4: -1 | M4: 0 | O4: Halbelf | P4: 3 | R4: Druide | S4: 0 | U4: Alptraum | V4: 4 | W4: 1
A5: keines | B5: 0 | C5: 0 | D5: 0 | E5: Alchemie 3 | F5: 3 | G5: 1 | K5: Allergie 2 | L5: -2 | M5: 0 | O5: Halbling | P5: 2 | R5: Echse | S5: 0 | U5: Artefakt herstellen 1 | V5: 1 | W5: 1
A6: Kettenwaffen | B6: 4 | C6: 1 | D6: 1 | E6: Alchemie 4 | F6: 4 | G6: 1 | K6: Allergie 3 | L6: -3 | M6: 0 | O6: Katze | P6: 3 | R6: Halbelf | S6: 0 | U6: Artefakt herstellen 2 | V6: 3 | W6: 1
A7: Schilde | B7: 3 | C7: 0 | D7: 1 | E7: Alchemie 5 | F7: 5 | G7: 1 | K7: Amnesie | L7: -4 | M7: 0 | O7: Kender | P7: 3 | R7: Hexe | S7: 0 | U7: Artefakt herstellen 3 | V7: 5 | W7: 1
A8: Schusswaffen | B8: 3 | C8: 0 | D8: 1 | E8: Alchemie 6 | F8: 6 | G8: 1 | K8: Angst vorm Medicus | L8: -3 | M8: 0 | O8: Mensch | P8: 3 | R8: Kämpfer | S8: 1 | U8: Artefakt herstellen 4 | V8: 8 | W8: 1
A9: Speere & Stäbe | B9: 4 | C9: 1 | D9: 1 | E9: Alchemie 7 | F9: 7 | G9: 1 | K9: Außenseiter | L9: -1 | M9: 0 | O9: Vulgure | P9: 3 | R9: Magara Tor | S9: 0 | U9: Artefakt zerstören 1 | V9: 1 | W9: 1
A10: Stöcke | B10: 0 | C10: 0 | D10: 1 | E10: Alchemie 8 | F10: 8 | G10: 1 | K10: Berserker | L10: -6 | M10: 0 | O10: Waldelf | P10: 2 | R10: Magiedilettant | S10: 0 | U10: Artefakt zerstören 2 | V10: 2 | W10: 1
A11: Verteidigungsstab | B11: 0 | C11: 0 | D11: 1 | E11: Alchemie 9 | F11: 9 | G11: 1 | K11: Besessenheit | L11: -2 | M11: 0 | O11: Zwerg | P11: 4 | R11: Schamane | S11: 0 | U11: Artefakt zerstören 3 | V11: 4 | W11: 1
A12: Waffenloser Kampf 1 | B12: 1 | C12: 1 | D12: 1 | E12: Anfertigen v. Spruchr. | F12: 4 | G12: 1 | K12: Blind | L12: -4 | M12: 0 | R12: Waldelf | S12: 0 | U12: Artefakt zerstören 4 | V12: 7 | W12: 1
A13: Waffenloser Kampf 2 | B13: 2 | C13: 2 | D13: 1 | E13: Betäuben | F13: 1 | G13: 1 | K13: Blutdurst | L13: -3 | M13: 0 | R13: Zauberer | S13: -1 | U13: Beeinflussung aufheben 1 | V13: 1 | W13: 1
A14: Waffenloser Kampf 3 | B14: 4 | C14: 3 | D14: 1 | E14: Bognerhandwerk | F14: 3 | G14: 1 | K14: Bluter | L14: -6 | M14: 0 | U14: Beeinflussung aufheben 2 | V14: 2 | W14: 1
A15: Waffenloser Kampf 4 | B15: 6 | C15: 4 | D15: 1 | E15: Dieben | F15: 3 | G15: 1 | K15: Dummheit | L15: -2 | M15: 0 | U15: Beeinflussung aufheben 3 | V15: 3 | W15: 1
A16: Waffenloser Kampf 5 | B16: 9 | C16: 5 | D16: 1 | E16: Einf. Rüstung flicken | F16: 2 | G16: 1 | K16: Ehrenhaftigkeit | L16: -2 | M16: 0 | U16: Beeinflussung aufheben 4 | V16: 4 | W16: 1
A17: Wurfwaffen | B17: 3 | C17: 0 | D17: 1 | E17: Einf. Rüstung rep. | F17: 4 | G17: 1 | K17: Einarmig | L17: -2 | M17: 0 | U17: Beeinflussung aufheben 5 | V17: 5 | W17: 1
A18: Zweihändige Waffen | B18: 5 | C18: 1 | D18: 1 | E18: Entfesslungstrick | F18: 2 | G18: 1 | K18: Einäugig | L18: -2 | M18: 0 | U18: Beeinflussung aufheben 6 | V18: 6 | W18: 1
E19: Erste Hilfe | F19: 2 | G19: 1 | K19: Erfahren 1 | L19: 0 | M19: 0 | U19: Beeinflussung aufheben 7 | V19: 7 | W19: 1
E20: Erweiterte Erste Hilfe | F20: 3 | G20: 1 | K20: Erfahren 2 | L20: 0 | M20: 0 | U20: Befehl | V20: 4 | W20: 1
A21: Äxte & Wuchtwaffen | B21: 0 | E21: Fallen entschärfen 1 | F21: 1 | G21: 1 | K21: Erfahren 3 | L21: 0 | M21: 0 | U21: Berschwören von Kräutern | V21: 2 | W21: 1
A22: Dolche | B22: 0 | E22: Fallen entschärfen 2 | F22: 2 | G22: 1 | K22: Feind 1 | L22: -2 | M22: 0 | U22: Berserker | V22: 3 | W22: 1
A23: Einhandwaffen | B23: 0 | E23: Fallen entschärfen 3 | F23: 4 | G23: 1 | K23: Feind 2 | L23: -4 | M23: 0 | U23: Beruhigen | V23: 1 | W23: 1
A24: keines | B24: 0 | E24: Fallen entschärfen 4 | F24: 7 | G24: 1 | K24: Feind 3 | L24: -6 | M24: 0 | U24: Bewegung verlangsamen | V24: 2 | W24: 1
A25: Kettenwaffen | B25: 0 | E25: Fallen entschärfen 5 | F25: 10 | G25: 1 | K25: Gelübde | L25: -1 | M25: 0 | U25: Binden | V25: 3 | W25: 1
A26: Schilde | B26: 0 | E26: Fallen stellen 1 | F26: 1 | G26: 1 | K26: Gesucht 1 | L26: -2 | M26: 0 | U26: Blindheit | V26: 2 | W26: 1
A27: Schusswaffen | B27: 0 | E27: Fallen stellen 2 | F27: 3 | G27: 1 | K27: Gesucht 2 | L27: -4 | M27: 0 | U27: Blitz 1 | V27: 4 | W27: 1
A28: Speere & Stäbe | B28: 0 | E28: Fallen stellen 3 | F28: 6 | G28: 1 | K28: Gesucht 3 | L28: -6 | M28: 0 | U28: Blitz 2 | V28: 6 | W28: 1
A29: Stöcke | B29: 0 | E29: Fallen stellen 4 | F29: 10 | G29: 1 | K29: Gier | L29: -2 | M29: 0 | U29: Blitz 3 | V29: 8 | W29: 1
A30: Verteidigungsstab | B30: 0 | E30: Fallen stellen 5 | F30: 15 | G30: 1 | K30: Giftimm. geg. Blindheit | L30: 3 | M30: 0 | U30: Cchchchchchlup | V30: 7 | W30: 1
A31: Waffenloser Kampf 1 | B31: 1 | E31: Falschspiel 1 | F31: 4 | G31: 1 | K31: Giftimm. geg. Halluz. | L31: 4 | M31: 0 | U31: Dämonen beschwören | V31: 6 | W31: 1
A32: Waffenloser Kampf 2 | B32: 2 | E32: Falschspiel 2 | F32: 7 | G32: 1 | K32: Giftimm. geg. Koma | L32: 4 | M32: 0 | U32: Durch Türen schreiten | V32: 3 | W32: 1
... A37: Zweihändige Waffen | B37: 0 | E37: Giftheilkunde | F37: 4 | G37: 1 | K37: Giftimm. geg. Schwäche | L37: 1 | M37: 0 | U37: Elfengang | V37: 1 | W37: 1
E38: Giftkunde 1 | F38: 2 | G38: 1 | K38: Giftimm. geg. Stummheit | L38: 4 | M38: 0 | U38: Emotion spüren | V38: 1 | W38: 1
E39: Giftkunde 10 | F39: 20 | G39: 1 | K39: Giftimm. geg. Taubheit | L39: 3 | M39: 0 | U39: Entwaffnen | V39: 3 | W39: 1
E40: Giftkunde 2 | F40: 4 | G40: 1 | K40: Giftimm. geg. Tod | L40: 6 | M40: 0 | U40: Erinnerung verfällt 1 | V40: 2 | W40: 1
E41: Giftkunde 3 | F41: 6 | G41: 1 | K41: Giftimm. geg. Übelkeit | L41: 1 | M41: 0 | U41: Erinnerung verfällt 2 | V41: 3 | W41: 1
E42: Giftkunde 4 | F42: 8 | G42: 1 | K42: Giftimm. geg. Wahnsinn | L42: 3 | M42: 0 | U42: Erinnerung verfällt 3 | V42: 4 | W42: 1
E43: Giftkunde 5 | F43: 10 | G43: 1 | K43: Giftimm. geg.langs. Tod | L43: 5 | M43: 0 | U43: Ersticken | V43: 3 | W43: 1
E44: Giftkunde 6 | F44: 12 | G44: 1 | K44: Glück im Spiel | L44: 2 | M44: 0 | U44: Exorzismus 1 | V44: 3 | W44: 1
...
